BEGIN:VCALENDAR
VERSION:2.0
PRODID:-//CPTS Centre Alsace - ECPv6.15.20//NONSGML v1.0//EN
CALSCALE:GREGORIAN
METHOD:PUBLISH
X-ORIGINAL-URL:https://cpts-centre-alsace.fr
X-WR-CALDESC:Évènements pour CPTS Centre Alsace
REFRESH-INTERVAL;VALUE=DURATION:PT1H
X-Robots-Tag:noindex
X-PUBLISHED-TTL:PT1H
BEGIN:VTIMEZONE
TZID:Europe/Paris
BEGIN:DAYLIGHT
TZOFFSETFROM:+0100
TZOFFSETTO:+0200
TZNAME:CEST
DTSTART:20250330T010000
END:DAYLIGHT
BEGIN:STANDARD
TZOFFSETFROM:+0200
TZOFFSETTO:+0100
TZNAME:CET
DTSTART:20251026T010000
END:STANDARD
BEGIN:DAYLIGHT
TZOFFSETFROM:+0100
TZOFFSETTO:+0200
TZNAME:CEST
DTSTART:20260329T010000
END:DAYLIGHT
BEGIN:STANDARD
TZOFFSETFROM:+0200
TZOFFSETTO:+0100
TZNAME:CET
DTSTART:20261025T010000
END:STANDARD
BEGIN:DAYLIGHT
TZOFFSETFROM:+0100
TZOFFSETTO:+0200
TZNAME:CEST
DTSTART:20270328T010000
END:DAYLIGHT
BEGIN:STANDARD
TZOFFSETFROM:+0200
TZOFFSETTO:+0100
TZNAME:CET
DTSTART:20271031T010000
END:STANDARD
END:VTIMEZONE
BEGIN:VEVENT
DTSTART;TZID=Europe/Paris:20260318T190000
DTEND;TZID=Europe/Paris:20260318T213000
DTSTAMP:20260425T125125
CREATED:20260224T153910Z
LAST-MODIFIED:20260226T091326Z
UID:6230-1773860400-1773869400@cpts-centre-alsace.fr
SUMMARY:Soirée Obésité :  agir ensemble sur le territoire
DESCRIPTION:La CPTS Centre Alsace a le plaisir de convier les professionnels de santé libéraux et les professionnels salariésdu GHSO à une soirée dédiée au parcours obésité sur notre territoire : \n📅 Mercredi 18 mars 2026\n🕢 À partir de 19h00\n📍 Complexe hotelier Cigoland\, Kintzheim \nCette rencontre a pour objectif de :\n– partager des outils et des pratiques pour une prise en charge globale de l’obésité\n– Et d’encourager/favoriser les échanges entre professionnels de santé pour renforcer la coordination. \nAu programme : \n– Atelier Fresque de l’Obésité – animé par le Dr Thomas (GHSO) et Julie Collin (GHSO / CPTS)\n– Atelier Diététique\n– Atelier Santé mentale et obésité\n– Atelier Rôle des masseurs-kinésithérapeutes dans le parcours \nLa soirée se clôturera par un temps convivial permettant de poursuivre les échanges. \nInscription : https://framaforms.org/inscription-soiree-obesite-agir-ensemble-sur-le-territoire-18032026-des-19h30-1771923703
URL:https://cpts-centre-alsace.fr/event/soiree-obesite-agir-ensemble-sur-le-territoire/
LOCATION:complexe hotelier Cigoland\, Kintzheim
CATEGORIES:Soirée inter'pro
ATTACH;FMTTYPE=image/png:https://cpts-centre-alsace.fr/wp-content/uploads/2026/02/soiree-180326-obesite-3.png
ORGANIZER;CN="CPTS Centre Alsace":MAILTO:contact@cpts-centre-alsace.fr
END:VEVENT
BEGIN:VEVENT
DTSTART;TZID=Europe/Paris:20260328T090000
DTEND;TZID=Europe/Paris:20260328T123000
DTSTAMP:20260425T125125
CREATED:20260226T080914Z
LAST-MODIFIED:20260226T081024Z
UID:6246-1774688400-1774701000@cpts-centre-alsace.fr
SUMMARY:Matinée d'échanges Ville-Hôpital : passer du relais au partenariat
DESCRIPTION:Matinée Ville–Hôpital : passer du relais au partenariat\n📅 Samedi 28 mars 2026🕘 09h00 – 12h30📍 Accueil à partir de 08h30 \nÉvénement organisé par les Hôpitaux Universitaires de Strasbourg (HUS) et les CPTS du Bas-Rhin. \nCette matinée a pour ambition de faire évoluer la relation ville–hôpital : passer d’une logique de simple relais à une véritable dynamique de partenariat\, au service de parcours patients plus fluides et plus efficaces. \nInscription : https://framaforms.org/formulaire-dinscription-matinee-dechanges-hopital-ville-1765878038 \nPROGRAMME DETAILLE : https://cpts-centre-alsace.fr/wp-content/uploads/2026/02/Programme-matinee-20260328-.pdf
URL:https://cpts-centre-alsace.fr/event/matinee-ville-hopital-bas-rhin-28-mars/
LOCATION:Salle Agora\, CHU Hautepierre\, France
ATTACH;FMTTYPE=image/jpeg:https://cpts-centre-alsace.fr/wp-content/uploads/2026/02/invit_ville_hopitzl280326.jpeg
END:VEVENT
END:VCALENDAR