BEGIN:VCALENDAR
VERSION:2.0
PRODID:-//CPTS Centre Alsace - ECPv6.15.20//NONSGML v1.0//EN
CALSCALE:GREGORIAN
METHOD:PUBLISH
X-WR-CALNAME:CPTS Centre Alsace
X-ORIGINAL-URL:https://cpts-centre-alsace.fr
X-WR-CALDESC:Évènements pour CPTS Centre Alsace
REFRESH-INTERVAL;VALUE=DURATION:PT1H
X-Robots-Tag:noindex
X-PUBLISHED-TTL:PT1H
BEGIN:VTIMEZONE
TZID:Europe/Paris
BEGIN:DAYLIGHT
TZOFFSETFROM:+0100
TZOFFSETTO:+0200
TZNAME:CEST
DTSTART:20230326T010000
END:DAYLIGHT
BEGIN:STANDARD
TZOFFSETFROM:+0200
TZOFFSETTO:+0100
TZNAME:CET
DTSTART:20231029T010000
END:STANDARD
BEGIN:DAYLIGHT
TZOFFSETFROM:+0100
TZOFFSETTO:+0200
TZNAME:CEST
DTSTART:20240331T010000
END:DAYLIGHT
BEGIN:STANDARD
TZOFFSETFROM:+0200
TZOFFSETTO:+0100
TZNAME:CET
DTSTART:20241027T010000
END:STANDARD
BEGIN:DAYLIGHT
TZOFFSETFROM:+0100
TZOFFSETTO:+0200
TZNAME:CEST
DTSTART:20250330T010000
END:DAYLIGHT
BEGIN:STANDARD
TZOFFSETFROM:+0200
TZOFFSETTO:+0100
TZNAME:CET
DTSTART:20251026T010000
END:STANDARD
END:VTIMEZONE
BEGIN:VEVENT
DTSTART;TZID=Europe/Paris:20241104T123000
DTEND;TZID=Europe/Paris:20241104T133000
DTSTAMP:20260425T124705
CREATED:20240930T140025Z
LAST-MODIFIED:20241003T122319Z
UID:4514-1730723400-1730727000@cpts-centre-alsace.fr
SUMMARY:Webinaire Présentation du Guide Précarité de Médecins du Monde 67
DESCRIPTION:INSCRIPTION WEBINAIRE / https://framaforms.org/guide-sante-precarite-webinaire-inscription-1727091851 \n  \nLancement du Guide Santé Précarité : Accompagnement des personnes en situation de précarité par les professionnel.les de santé du Bas-Rhin. \n  \nDébut octobre 2024\, a été lancé la phase test du Guide Santé Précarité : Accompagnement des personnes en situation de précarité. \n  \nL’objectif de ce guide est d’accompagner les professionnels de santé dans la prise en soin des personnes en situation de grande précarité. \nOrganisé autour de 4 chapitres\, le guide apporte des informations utiles en fonction des situations rencontrées et permet d’identifier au mieux les partenaires sur le territoire. \n  \nTélécharger et découvrir le guide en pdf (lien : https://linktr.ee/gspcasomdm) \n  \nEn tant que professionnel de santé et membre de la CPTS\, vos retours sur le guide sont nécessaires et possibles en répondant au questionnaire ci-dessous jusqu’ au 10 décembre. \n  \nVos réponses seront utiles pour améliorer cette première version du guide et pour qu’il réponde au mieux à vos attentes et besoins du quotidien. \n  \nLe questionnaire ne prend qu’une dizaine de minutes à compléter ! \n  \nAccéder au questionnaire via ce lien (https://ee.kobotoolbox.org/x/1hGIW0i4) et avec le QR Code \n  \nNous vous remercions pour votre contribution. \n  \nLe Guide Santé Précarité : Accompagnement des personnes en situation de précarité par les professionnel.les de santé du Bas-Rhin\, est réalisé par Médecins du Monde Alsace\, l’ARS DT67\, l’URPS ML Grand Est\, le Conseil de l’Ordre du Bas Rhin\, la CPAM du Bas-Rhin\, La Communauté européen d’Alsace (CeA) et la PASS des HUS. Le guide contient également les contributions du Centre d’Information des Droits des Femmes et des Familles (CIDFF)\, du Conseil Local de Santé Mentale (Eurométropole de Strasbourg)\, du Dispositif d’appui à la coordination (DAC) Alsace\, de la Fondation Abbé Pierre\, d’Ithaque\, de Migrations Santé Alsace (MSA)\, et de Solinum.
URL:https://cpts-centre-alsace.fr/event/webinaire-presentation-du-guide-precarite-de-medecins-du-monde-67/
LOCATION:visioconférence
ATTACH;FMTTYPE=image/jpeg:https://cpts-centre-alsace.fr/wp-content/uploads/2024/09/WhatsApp-Image-2024-10-03-at-13.27.30.jpeg
END:VEVENT
BEGIN:VEVENT
DTSTART;TZID=Europe/Paris:20241105T200000
DTEND;TZID=Europe/Paris:20241105T213000
DTSTAMP:20260425T124705
CREATED:20241017T082225Z
LAST-MODIFIED:20241017T082225Z
UID:4624-1730836800-1730842200@cpts-centre-alsace.fr
SUMMARY:Webinaire URPS ML Grand-Est - Vers une santé durable (sur inscription)
DESCRIPTION:Ordre du jour : \n\n\n\n\n\n\n\n1/ La santé environnementale\, un enjeu fort au sein de la CPTS du Pays d’Épernay\, Terres de Champagne \nDans le cadre de la mission 3 Prévention\, la CPTS développe des actions de prévention sur des thèmes de santé publique qui touchent particulièrement la population du territoire\, notamment l’exposition aux produits phytosanitaires. Découvrez comment la CPTS du Pays d’Épernay\, Terres de Champagne oeuvre dans cette optique.\n\n\n\n\n\n\n\n  \n\n\n\n\n\n\n\n2/ La mise en place d’une charte éco-responsabilité par la CPTS de Briey \nLa CPTS de Briey s’engage à adopter des pratiques écoresponsables dans ses activités. \nLeur vision consiste à promouvoir une santé durable et inclusive\, où les patients et les usagers sont acteurs de leur bien-être. Ainsi\, elle s’efforce d’intégrer ses actions dans une approche globale de santé\, prenant en compte l’impact environnemental des pratiques pour préserver les ressources naturelles\, réduire l’empreinte écologique et promouvoir le développement durable sur son territoire. Venir découvrir toutes leurs actions plus en détails.\n\n\n\n\n\n\n\n  \n\n\n\n\n\n\n\n3/ Les actions de la commission santé environnementale de l’URPS ML Grand Est \nPartant du constat qu’en France on estime à 25 % la part des décès en lien plus ou moins direct avec des dysfonctionnements environnementaux et que plus d’un tiers des pathologies chroniques y sont directement liées\, l’URPS ML Grand Est a souhaité travailler sur le thème de la santé environnementale au sein d’une commission dédiée. Formation\, sensibilisation\, ressources\, découvrez comment l’URPS ML Grand Est peut accompagner les CPTS sur cette thématique. \n  \nINSCRIPTION ICI \n  \n 
URL:https://cpts-centre-alsace.fr/event/webinaire-urps-ml-grand-est-vers-une-sante-durable-sur-inscription/
ATTACH;FMTTYPE=image/png:https://cpts-centre-alsace.fr/wp-content/uploads/2024/10/eco-responsabilite.png
END:VEVENT
BEGIN:VEVENT
DTSTART;TZID=Europe/Paris:20241107T130000
DTEND;TZID=Europe/Paris:20241107T134500
DTSTAMP:20260425T124705
CREATED:20240930T135217Z
LAST-MODIFIED:20241029T065912Z
UID:4510-1730984400-1730987100@cpts-centre-alsace.fr
SUMMARY:Webinaire -  Présentation des actions de l'association "Stop aux Violences Sexuelles Alsace"
DESCRIPTION:Invitation Webinaire : Présentation des actions de l’association « Stop aux Violences Sexuelles Alsace » \nRejoignez-nous pour un webinaire dédié à la présentation des actions de l’association Stop aux Violences Sexuelles Alsace. Ce moment d’échange sera l’occasion de découvrir les initiatives mises en place pour sensibiliser\, prévenir et accompagner les victimes de violences sexuelles dans la région. \n📅 Date : Jeudi 07 novembre 2024\n⏰ Heure : 13h-13h45\n📍 En ligne : \nParticiper Zoom Réunion\nhttps://us02web.zoom.us/j/88641179376?pwd=5YN9TGQbtZMxIxQSmEd4aIa6hatCIW.1 \nID de réunion: 886 4117 9376\nCode secret: 801560 \nSan inscription
URL:https://cpts-centre-alsace.fr/event/webinaire-presentation-des-actions-de-lassociation-stop-aux-violences-sexuelles-alsace/
CATEGORIES:santé de la femme
ATTACH;FMTTYPE=image/png:https://cpts-centre-alsace.fr/wp-content/uploads/2024/09/2024_11_07_webinaire_SVSAlsace.png
ORGANIZER;CN="CPTS Centre Alsace":MAILTO:contact@cpts-centre-alsace.fr
END:VEVENT
BEGIN:VEVENT
DTSTART;TZID=Europe/Paris:20241112T080000
DTEND;TZID=Europe/Paris:20241119T170000
DTSTAMP:20260425T124705
CREATED:20241017T085618Z
LAST-MODIFIED:20241017T085618Z
UID:4635-1731398400-1732035600@cpts-centre-alsace.fr
SUMMARY:[SEMAINE DE LA DÉNUTRITION 2024] Programme de webinaires thématiques qui se tiendront sur toute la durée de la Semaine contre la dénutrition (sur inscription)
DESCRIPTION:🎥 [Programme de webinaires – Semaine nationale de lutte contre la dénutrition 2024] \n  \nLa dénutrition concerne de nombreux publics différents parmi les 2 millions de personnes touchées dans notre pays et est au croisement de spécialités médicales et paramédicales diverses.\nÀ l’occasion de la 5ème édition de la Semaine nationale de la dénutrition\, nous avons souhaité vous proposer un programme riche de webinaires\, accessibles à tous\, lors desquels des professionnels expliqueront comment agir pour mieux prévenir\, diagnostiquer et prendre en charge plus efficacement la maladie. \nAu programme : \n➡️Le Pr Isabelle Prêcheur\, chirurgien-dentiste au CHU de Nice\, chirurgien-dentiste au CHU de Nice et Professeure à l’Université Nice Côte d’Azur\, également membre du Collectif\, nous parlera du lien entre dénutrition et santé bucco-dentaire. \nRendez-vous le mardi 12 novembre\, à 13h. \n📎Lien d’inscription : https://forms.gle/XuuhzxrFr8TneJaP8 \n  \n  \n➡️Quelles sont les imbrications existantes entre dénutrition et éthique ? \n Le mardi 12 novembre à 14h\, le Pr Diana Cárdenas\, médecin praticien à l’Institut de Cancérologie Gustave Roussy\, spécialisée dans la nutrition et dans les Relations Internationales\, nous présentera la dénutrition sous l’angle des droits humains.  \n📎Lien d’inscription : https://forms.gle/5yhXNUwg4QYrZYpG7\n➡️Le mardi 12 novembre à 14h\, les équipes de Nutrisens organisent un Cookinar Spécial Dénutrition. Benoît Diagne\, diététicien nutritionniste phare des réseaux sociaux ainsi que Laurent Sicre\, expert en performance culinaire donneront leurs conseils pour prendre en charge les situations de dénutrition et enrichir efficacement les assiettes des résidents. \n📎Lien d’inscription : Webikeo \n  \n  \n➡️Le mardi 12 novembre\, dans l’après-midi\, les équipes de France Alzheimer nous donneront leurs conseils pour lutter contre la dénutrition chez les personnes atteintes de la maladie d’Alzheimer. Plus d’informations à venir ultérieurement. \n  \n  \n➡️Le mercredi 13 novembre à 13h\, le Dr Arnaud De Lucas\, pédiatre et nutritionniste au CHRU de Tours abordera les sujets de dénutrition infantile. L’occasion de rappeler que cette pathologie peut toucher les personnes de tout âge et nécessite une prise en charge différenciée \n📎Lien d’inscription : https://forms.gle/KmDRC9eCZxexJibw5\n➡️Le mercredi 13 novembre à 13h\, Leslie Noirclerc\, formatrice en IFAS\, nous présentera le rôle essentiel et de premier plan des aides-soignant(e)s dans l’identification des signes cliniques de la dénutrition. \n📎Lien d’inscription : https://forms.gle/fhbZrUBch9QdAZeS8 \n  \n  \n➡️Le mercredi 13 novembre à 16h\, le Pr Agathe Raynaud\, Aurélien Bresson\, orthophoniste et Vice-Président chargé de la Prévention et de la Promotion de la Santé au sein de la Fédération Nationale des Orthophonistes\, Emilie Lorrain\, orthophoniste et formatrice\, ainsi que Emeline Lesecq\, orthophoniste nous expliquerons comment l’expertise orthophonique permet de lutter contre la dénutrition. \n📎Lien d’inscription : https://forms.gle/aQspNqWEmrhjACoM9 \n  \n  \n➡️Comment traduire informatiquement la dénutrition ? \nLe jeudi 14 novembre à 12h30\, Eva Cornet\, CEO de Bioparhom\, accompagnée du Pr Agathe Raynaud Simon\, Présidente du Collectif\, nous présenterons les outils de mesure et les méthodologies de codage de la dénutrition. \n📎Lien d’inscription : https://docs.google.com/forms/d/e/1FAIpQLSetC5hOB3QisAyhr-zzmiX7P-AeC0Z07RWldrL8GMcvvHXbNQ/viewform \n  \n  \n➡️Parce que les personnes en situation de handicap sont une population particulièrement exposée à la dénutrition\, Mme Carole Villemonteix\, Directrice du CERENUT (Centre de Nutrition Nouvelle-Aquitaine) ainsi que le Pr Pierre Jésus\, Secrétaire du Collectif\, nous détaillerons les principales causes responsables de la dénutrition ainsi que leurs méthodes d’évaluation. Ça se passe le 14 novembre\, à 13h00. \n📎Lien d’inscription : https://lnkd.in/eb3sx5Zt \n  \n  \n➡️Lutter contre la dénutrition est aussi une affaire de stimulation sensorielle. Le 14 novembre\, à 17h00\, le chef étoilé Christian Têtedoie\, la doctorante de l’institut Lyfe\, Sarah Domingie ainsi que Marion Libert diététicienne nutritionniste experte en séniors et chargée de mission pour Api Restauration reviendrons sur le lien indissociable entre mobilisation des cinq sens et bonne qualité nutritionnelle. \n📎Lien d’inscription : https://docs.google.com/forms/d/e/1FAIpQLSdriD4kAyfSai8nGClx3sUJQffcw9z1cqUr7KtHGdw8H92BSw/viewform \n  \n➡️Pour cet avant-dernier webinaire\, les équipes de Sodexo ont fait appel au Dr. BEHAR\, Gériatre à l’AP-HP\, à Charles GAIGNON\, enseignant en activité physique adaptée et au SRAE nutrition afin d’aborder le sujet de la perte de masse musculaire – aussi appelée sarcopénie – et de l’outil que représente l’activité physique adaptée pour l’enrayer. \nRendez-vous le 15 novembre\, à 14h. \n📎Lien de diffusion : : https://events.teams.microsoft.com/event/4288b9b0-543b-4ebe-b3cf-5cfb9d4bffa3@a289d6c2-3b1f-4bc4-8fa0-6866ff300052 \n  \n  \n➡️Pour clôturer ce programme\, la Caisse Nationale d’Assurance Vieillesse (CNAV) et la Mutualité Française vous proposent une séquence durant laquelle seront partagées les bonnes pratiques pour repérer la dénutrition chez les personnes aidées à domicile. Plus d’informations à venir. \n  \n  \n 
URL:https://cpts-centre-alsace.fr/event/programme-de-webinaires-semaine-de-lutte-contre-la-denutrition/
CATEGORIES:Webinaire
ATTACH;FMTTYPE=image/jpeg:https://cpts-centre-alsace.fr/wp-content/uploads/2024/10/logo-semaine-denutrition.jpg
END:VEVENT
BEGIN:VEVENT
DTSTART;TZID=Europe/Paris:20241112T130000
DTEND;TZID=Europe/Paris:20241112T140000
DTSTAMP:20260425T124705
CREATED:20241017T082538Z
LAST-MODIFIED:20241017T082602Z
UID:4628-1731416400-1731420000@cpts-centre-alsace.fr
SUMMARY:[SEMAINE DE LA DÉNUTRITION 2024] Webinaire "Dénutrition et santé bucco-dentaire : un lien bidirectionnel" (SUR INSCRIPTION)
DESCRIPTION:➡️Le Pr Isabelle Prêcheur\, chirurgien-dentiste au CHU de Nice\, chirurgien-dentiste au CHU de Nice et Professeure à l’Université Nice Côte d’Azur\, également membre du Collectif\, nous parlera du lien entre dénutrition et santé bucco-dentaire. \nRendez-vous le mardi 12 novembre\, à 13h. \n📎Lien d’inscription : https://forms.gle/XuuhzxrFr8TneJaP8
URL:https://cpts-centre-alsace.fr/event/semaine-de-la-denutrition-2024-webinaire-denutrition-et-sante-bucco-dentaire-un-lien-bidirectionnel-sur-inscription/
CATEGORIES:Webinaire
ATTACH;FMTTYPE=image/jpeg:https://cpts-centre-alsace.fr/wp-content/uploads/2024/10/logo-semaine-denutrition.jpg
END:VEVENT
BEGIN:VEVENT
DTSTART;TZID=Europe/Paris:20241113T130000
DTEND;TZID=Europe/Paris:20241113T140000
DTSTAMP:20260425T124705
CREATED:20241017T083101Z
LAST-MODIFIED:20241017T083101Z
UID:4633-1731502800-1731506400@cpts-centre-alsace.fr
SUMMARY:[SEMAINE DE LA DÉNUTRITION 2024] - Webinaire "Sensibiliser à la dénutrition de l'enfant" (SUR INSCRIPTION)
DESCRIPTION:➡️Le mercredi 13 novembre à 13h\, le Dr Arnaud De Lucas\, pédiatre et nutritionniste au CHRU de Tours abordera les sujets de dénutrition infantile. L’occasion de rappeler que cette pathologie peut toucher les personnes de tout âge et nécessite une prise en charge différenciée \n📎Lien d’inscription : https://forms.gle/KmDRC9eCZxexJibw5
URL:https://cpts-centre-alsace.fr/event/webinaire-sensibiliser-a-la-denutrition-de-lenfant-sur-inscription/
CATEGORIES:Webinaire
ATTACH;FMTTYPE=image/jpeg:https://cpts-centre-alsace.fr/wp-content/uploads/2024/10/logo-semaine-denutrition.jpg
END:VEVENT
BEGIN:VEVENT
DTSTART;TZID=Europe/Paris:20241113T160000
DTEND;TZID=Europe/Paris:20241113T170000
DTSTAMP:20260425T124705
CREATED:20241017T082822Z
LAST-MODIFIED:20241017T082822Z
UID:4631-1731513600-1731517200@cpts-centre-alsace.fr
SUMMARY:[SEMAINE DE LA DÉNUTRITION 2024] Troubles de l’oralité\, de l’enfant à la personne âgée Le rôle des orthophonistes dans la lutte contre la dénutrition (SUR INSCRIPTION)
DESCRIPTION:➡️Le mercredi 13 novembre à 16h\, le Pr Agathe Raynaud\, Aurélien Bresson\, orthophoniste et Vice-Président chargé de la Prévention et de la Promotion de la Santé au sein de la Fédération Nationale des Orthophonistes\, Emilie Lorrain\, orthophoniste et formatrice\, ainsi que Emeline Lesecq\, orthophoniste nous expliquerons comment l’expertise orthophonique permet de lutter contre la dénutrition. \n📎Lien d’inscription : https://forms.gle/aQspNqWEmrhjACoM9
URL:https://cpts-centre-alsace.fr/event/semaine-de-la-denutrition-2024-troubles-de-loralite-de-lenfant-a-la-personne-agee-le-role-des-orthophonistes-dans-la-lutte-contre-la-denutrition-sur-inscription/
CATEGORIES:Webinaire
ATTACH;FMTTYPE=image/jpeg:https://cpts-centre-alsace.fr/wp-content/uploads/2024/10/logo-semaine-denutrition.jpg
END:VEVENT
END:VCALENDAR