BEGIN:VCALENDAR
VERSION:2.0
PRODID:-//CPTS Centre Alsace - ECPv6.15.20//NONSGML v1.0//EN
CALSCALE:GREGORIAN
METHOD:PUBLISH
X-WR-CALNAME:CPTS Centre Alsace
X-ORIGINAL-URL:https://cpts-centre-alsace.fr
X-WR-CALDESC:Évènements pour CPTS Centre Alsace
REFRESH-INTERVAL;VALUE=DURATION:PT1H
X-Robots-Tag:noindex
X-PUBLISHED-TTL:PT1H
BEGIN:VTIMEZONE
TZID:Europe/Paris
BEGIN:DAYLIGHT
TZOFFSETFROM:+0100
TZOFFSETTO:+0200
TZNAME:CEST
DTSTART:20250330T010000
END:DAYLIGHT
BEGIN:STANDARD
TZOFFSETFROM:+0200
TZOFFSETTO:+0100
TZNAME:CET
DTSTART:20251026T010000
END:STANDARD
BEGIN:DAYLIGHT
TZOFFSETFROM:+0100
TZOFFSETTO:+0200
TZNAME:CEST
DTSTART:20260329T010000
END:DAYLIGHT
BEGIN:STANDARD
TZOFFSETFROM:+0200
TZOFFSETTO:+0100
TZNAME:CET
DTSTART:20261025T010000
END:STANDARD
BEGIN:DAYLIGHT
TZOFFSETFROM:+0100
TZOFFSETTO:+0200
TZNAME:CEST
DTSTART:20270328T010000
END:DAYLIGHT
BEGIN:STANDARD
TZOFFSETFROM:+0200
TZOFFSETTO:+0100
TZNAME:CET
DTSTART:20271031T010000
END:STANDARD
END:VTIMEZONE
BEGIN:VEVENT
DTSTART;TZID=Europe/Paris:20260414T123000
DTEND;TZID=Europe/Paris:20260414T133000
DTSTAMP:20260425T125421
CREATED:20260407T115801Z
LAST-MODIFIED:20260407T115801Z
UID:6294-1776169800-1776173400@cpts-centre-alsace.fr
SUMMARY:Webinaire SAS 67 x Entr'Actes : Comment ça marche ?
DESCRIPTION:Webinaire SAS 67 x Entr’Actes : Comment ça marche ? \n𝐄𝐧 𝟐𝟎𝟐𝟓\, 𝐥𝐞 𝐒𝐀𝐒 𝟔𝟕 a réalisé + 𝐝𝐞 𝟒𝟎𝟎𝟎 𝐬𝐨𝐥𝐥𝐢𝐜𝐢𝐭𝐚𝐭𝐢𝐨𝐧𝐬 ! \nPour accompagner les médecins libéraux du Bas-Rhin\, nous vous invitons à un webinaire dédié à la compréhension et à l’intégration des demandes du SAS 67 directement dans votre quotidien. \n📅 Rendez-vous le :\nMardi 14 avril 2026\n12h30 – 13h30 (visioconférence)\nLien d’inscription : https://lnkd.in/dd-fjukg \nAu programme :\n– 𝐂𝐨𝐦𝐩𝐫𝐞𝐧𝐝𝐫𝐞 𝐥𝐞 𝐟𝐨𝐧𝐜𝐭𝐢𝐨𝐧𝐧𝐞𝐦𝐞𝐧𝐭 des demandes adressées par le SAS 67 aux médecins de ville\n– Démonstration 𝐜𝐨𝐦𝐦𝐞𝐧𝐭 𝐚𝐜𝐜𝐞𝐩𝐭𝐞𝐫 𝐮𝐧𝐞 𝐝𝐞𝐦𝐚𝐧𝐝𝐞 en moins d’𝟏 𝐦𝐢𝐧𝐮𝐭𝐞 avec l’application mobile Entr’Actes\n– Échanges et réponses à 𝐯𝐨𝐬 𝐪𝐮𝐞𝐬𝐭𝐢𝐨𝐧𝐬 avec Dalhia ADJEDJ\, directrice opérationnelle du SAS du Bas-Rhin \nChaque sollicitation et chaque acceptation sont horodatées.\nVous disposez ainsi d’une trace numérique facilitant la cotation.\nEn dehors d’Entr’Actes\, la traçabilité de l’adressage SAS n’est pas nécessairement formalisée\, ce qui peut compliquer la justification et la cotation du SNP. \nEn résumé\nEntr’Actes vous permet :\n– De répondre aux sollicitations SAS au-delà des seuls créneaux d’agenda\n– De rester libre d’accepter et de positionner le rendez-vous\n– De sécuriser la traçabilité\n– De faciliter la cotation des Soins Non Programmés \nEntr’Actes devient ainsi l’outil opérationnel de réception et de gestion des demandes issues de la régulation libérale. \n✅L’application est gratuite pour les professionnels de santé et accessible après inscription avec votre RPPS.
URL:https://cpts-centre-alsace.fr/event/webinaire-sas-67-x-entractes-comment-ca-marche/
CATEGORIES:Webinaire
ATTACH;FMTTYPE=image/jpeg:https://cpts-centre-alsace.fr/wp-content/uploads/2026/04/1774949191620.jpeg
END:VEVENT
END:VCALENDAR